Package: tomoda Version: 1.19.0 Command: /home/biocbuild/bbs-3.22-bioc/R/bin/R CMD INSTALL tomoda StartedAt: 2025-10-24 15:44:52 -0400 (Fri, 24 Oct 2025) EndedAt: 2025-10-24 15:45:15 -0400 (Fri, 24 Oct 2025) EllapsedTime: 23.3 seconds RetCode: 0 Status: OK