Package: tkWidgets Version: 1.87.0 Command: /home/biocbuild/bbs-3.22-bioc/R/bin/R CMD build --keep-empty-dirs --no-resave-data --md5 tkWidgets StartedAt: 2025-10-27 20:32:48 -0400 (Mon, 27 Oct 2025) EndedAt: 2025-10-27 20:33:00 -0400 (Mon, 27 Oct 2025) EllapsedTime: 12.0 seconds RetCode: 0 Status: OK PackageFile: tkWidgets_1.87.0.tar.gz PackageFileSize: 479.3 KiB