Package: tkWidgets Version: 1.88.0 Command: /Library/Frameworks/R.framework/Resources/bin/R CMD INSTALL tkWidgets StartedAt: 2025-11-03 15:12:04 -0500 (Mon, 03 Nov 2025) EndedAt: 2025-11-03 15:12:43 -0500 (Mon, 03 Nov 2025) EllapsedTime: 39.0 seconds RetCode: 0 Status: OK