Package: tkWidgets Version: 1.87.0 Command: /Library/Frameworks/R.framework/Resources/bin/R CMD INSTALL tkWidgets StartedAt: 2025-10-24 15:05:27 -0400 (Fri, 24 Oct 2025) EndedAt: 2025-10-24 15:05:37 -0400 (Fri, 24 Oct 2025) EllapsedTime: 9.5 seconds RetCode: 0 Status: OK