Package: tkWidgets Version: 1.87.0 Command: rm -rf tkWidgets.buildbin-libdir && mkdir tkWidgets.buildbin-libdir && /Users/biocbuild/BBS/utils/build-universal.sh tkWidgets_1.87.0.tar.gz /Library/Frameworks/R.framework/Resources/bin/R tkWidgets.buildbin-libdir StartedAt: 2025-10-24 23:22:50 -0400 (Fri, 24 Oct 2025) EndedAt: 2025-10-24 23:22:54 -0400 (Fri, 24 Oct 2025) EllapsedTime: 4.1 seconds RetCode: 0 Status: OK PackageFile: tkWidgets_1.87.0.tgz PackageFileSize: 661.2 KiB