Package: timecourse Version: 1.81.0 Command: /home/biocbuild/bbs-3.22-bioc/R/bin/R CMD INSTALL timecourse StartedAt: 2025-10-24 15:23:22 -0400 (Fri, 24 Oct 2025) EndedAt: 2025-10-24 15:23:27 -0400 (Fri, 24 Oct 2025) EllapsedTime: 5.5 seconds RetCode: 0 Status: OK