Package: timecourse Version: 1.82.0 Command: /home/biocbuild/bbs-3.22-bioc/R/bin/R CMD check --install=check:timecourse.install-out.txt --library=/home/biocbuild/bbs-3.22-bioc/R/site-library --timings timecourse_1.82.0.tar.gz StartedAt: 2025-11-01 05:04:07 -0400 (Sat, 01 Nov 2025) EndedAt: 2025-11-01 05:04:53 -0400 (Sat, 01 Nov 2025) EllapsedTime: 46.0 seconds RetCode: 0 Status: OK CheckDir: timecourse.Rcheck Warnings: 0