Package: timecourse Version: 1.81.0 Command: /home/biocbuild/bbs-3.22-bioc/R/bin/R CMD build --keep-empty-dirs --no-resave-data --md5 timecourse StartedAt: 2025-10-24 20:39:54 -0400 (Fri, 24 Oct 2025) EndedAt: 2025-10-24 20:40:09 -0400 (Fri, 24 Oct 2025) EllapsedTime: 15.0 seconds RetCode: 0 Status: OK PackageFile: timecourse_1.81.0.tar.gz PackageFileSize: 842.4 KiB