Package: timecourse Version: 1.81.0 Command: rm -rf timecourse.buildbin-libdir && mkdir timecourse.buildbin-libdir && /Users/biocbuild/BBS/utils/build-universal.sh timecourse_1.81.0.tar.gz /Library/Frameworks/R.framework/Resources/bin/R timecourse.buildbin-libdir StartedAt: 2025-10-25 02:08:41 -0400 (Sat, 25 Oct 2025) EndedAt: 2025-10-25 02:08:51 -0400 (Sat, 25 Oct 2025) EllapsedTime: 10.3 seconds RetCode: 0 Status: OK PackageFile: timecourse_1.81.0.tgz PackageFileSize: 944.4 KiB