Package: timecourse Version: 1.81.0 Command: /Library/Frameworks/R.framework/Resources/bin/R CMD INSTALL timecourse StartedAt: 2025-10-24 15:09:41 -0400 (Fri, 24 Oct 2025) EndedAt: 2025-10-24 15:09:43 -0400 (Fri, 24 Oct 2025) EllapsedTime: 2.4 seconds RetCode: 0 Status: OK