Package: timecourse Version: 1.81.0 Command: /Library/Frameworks/R.framework/Resources/bin/R CMD build --keep-empty-dirs --no-resave-data timecourse StartedAt: 2025-10-24 17:59:33 -0400 (Fri, 24 Oct 2025) EndedAt: 2025-10-24 17:59:41 -0400 (Fri, 24 Oct 2025) EllapsedTime: 8.1 seconds RetCode: 0 Status: OK PackageFile: timecourse_1.81.0.tar.gz PackageFileSize: 841.6 KiB