Package: timecourse Version: 1.82.0 Maintainer: Yu Chuan Tai MaintainerEmail: yuchuan at stat.berkeley.edu git_url: https://git.bioconductor.org/packages/timecourse git_branch: RELEASE_3_22 git_last_commit: c4ca002 git_last_commit_date: 2025-10-29 09:56:54 -0400 (Wed, 29 Oct 2025)