Package: timeOmics Version: 1.22.0 Command: /Library/Frameworks/R.framework/Resources/bin/R CMD build --keep-empty-dirs --no-resave-data timeOmics StartedAt: 2025-10-31 18:03:24 -0400 (Fri, 31 Oct 2025) EndedAt: 2025-10-31 18:03:39 -0400 (Fri, 31 Oct 2025) EllapsedTime: 15.2 seconds RetCode: 0 Status: OK PackageFile: timeOmics_1.22.0.tar.gz PackageFileSize: 4.012 MiB