Package: timeOmics Version: 1.22.0 Command: rm -rf timeOmics.buildbin-libdir && mkdir timeOmics.buildbin-libdir && /Users/biocbuild/BBS/utils/build-universal.sh timeOmics_1.22.0.tar.gz /Library/Frameworks/R.framework/Resources/bin/R timeOmics.buildbin-libdir StartedAt: 2025-10-31 23:26:41 -0400 (Fri, 31 Oct 2025) EndedAt: 2025-10-31 23:26:46 -0400 (Fri, 31 Oct 2025) EllapsedTime: 5.1 seconds RetCode: 0 Status: OK PackageFile: timeOmics_1.22.0.tgz PackageFileSize: 3.497 MiB