Package: tilingArray Version: 1.87.0 Command: /home/biocbuild/R/R/bin/R CMD build --keep-empty-dirs --no-resave-data tilingArray StartedAt: 2025-10-21 03:45:05 -0000 (Tue, 21 Oct 2025) EndedAt: 2025-10-21 03:45:53 -0000 (Tue, 21 Oct 2025) EllapsedTime: 48.0 seconds RetCode: 0 Status: OK PackageFile: tilingArray_1.87.0.tar.gz PackageFileSize: 3.46 MiB