Package: tilingArray Version: 1.87.0 Command: /Library/Frameworks/R.framework/Resources/bin/R CMD build --keep-empty-dirs --no-resave-data tilingArray StartedAt: 2025-10-24 19:04:42 -0400 (Fri, 24 Oct 2025) EndedAt: 2025-10-24 19:05:31 -0400 (Fri, 24 Oct 2025) EllapsedTime: 49.7 seconds RetCode: 0 Status: OK PackageFile: tilingArray_1.87.0.tar.gz PackageFileSize: 3.486 MiB