Package: tilingArray Version: 1.87.0 Command: rm -rf tilingArray.buildbin-libdir && mkdir tilingArray.buildbin-libdir && /Users/biocbuild/BBS/utils/build-universal.sh tilingArray_1.87.0.tar.gz /Library/Frameworks/R.framework/Resources/bin/R tilingArray.buildbin-libdir StartedAt: 2025-10-25 02:08:39 -0400 (Sat, 25 Oct 2025) EndedAt: 2025-10-25 02:09:17 -0400 (Sat, 25 Oct 2025) EllapsedTime: 38.1 seconds RetCode: 0 Status: OK PackageFile: tilingArray_1.87.0.tgz PackageFileSize: 3.879 MiB