Package: tilingArray Version: 1.87.0 Command: /Library/Frameworks/R.framework/Resources/bin/R CMD INSTALL tilingArray StartedAt: 2025-10-24 15:31:22 -0400 (Fri, 24 Oct 2025) EndedAt: 2025-10-24 15:31:31 -0400 (Fri, 24 Oct 2025) EllapsedTime: 9.8 seconds RetCode: 0 Status: OK