Package: tilingArray Version: 1.87.0 Command: rm -rf tilingArray.buildbin-libdir && mkdir tilingArray.buildbin-libdir && /Users/biocbuild/BBS/utils/build-universal.sh tilingArray_1.87.0.tar.gz /Library/Frameworks/R.framework/Resources/bin/R tilingArray.buildbin-libdir StartedAt: 2025-10-24 23:22:44 -0400 (Fri, 24 Oct 2025) EndedAt: 2025-10-24 23:22:55 -0400 (Fri, 24 Oct 2025) EllapsedTime: 11.3 seconds RetCode: 0 Status: OK PackageFile: tilingArray_1.87.0.tgz PackageFileSize: 3.881 MiB