Package: tigre Version: 1.64.0 Command: /home/biocbuild/bbs-3.22-bioc/R/bin/R CMD INSTALL tigre StartedAt: 2025-11-25 15:53:57 -0500 (Tue, 25 Nov 2025) EndedAt: 2025-11-25 15:54:16 -0500 (Tue, 25 Nov 2025) EllapsedTime: 19.1 seconds RetCode: 0 Status: OK