Package: tigre Version: 1.64.0 Command: /home/biocbuild/bbs-3.22-bioc/R/bin/R CMD build --keep-empty-dirs --no-resave-data --md5 tigre StartedAt: 2025-11-25 21:01:38 -0500 (Tue, 25 Nov 2025) EndedAt: 2025-11-25 21:04:42 -0500 (Tue, 25 Nov 2025) EllapsedTime: 184.3 seconds RetCode: 0 Status: OK PackageFile: tigre_1.64.0.tar.gz PackageFileSize: 319.5 KiB