Package: tidytof Version: 1.3.0 Command: /home/biocbuild/R/R/bin/R CMD INSTALL tidytof StartedAt: 2025-10-23 20:32:36 -0000 (Thu, 23 Oct 2025) EndedAt: 2025-10-23 20:33:15 -0000 (Thu, 23 Oct 2025) EllapsedTime: 39.8 seconds RetCode: 0 Status: OK