Package: tidytof Version: 1.3.0 Command: /home/biocbuild/R/R/bin/R CMD build --keep-empty-dirs --no-resave-data tidytof StartedAt: 2025-10-21 03:44:14 -0000 (Tue, 21 Oct 2025) EndedAt: 2025-10-21 03:51:08 -0000 (Tue, 21 Oct 2025) EllapsedTime: 414.1 seconds RetCode: 0 Status: OK PackageFile: tidytof_1.3.0.tar.gz PackageFileSize: 1.756 MiB