Package: tidytof Version: 1.3.0 Command: /home/biocbuild/bbs-3.22-bioc/R/bin/R CMD INSTALL tidytof StartedAt: 2025-10-24 15:24:16 -0400 (Fri, 24 Oct 2025) EndedAt: 2025-10-24 15:24:43 -0400 (Fri, 24 Oct 2025) EllapsedTime: 26.6 seconds RetCode: 0 Status: OK