Package: tidytof Version: 1.3.0 Command: /home/biocbuild/bbs-3.22-bioc/R/bin/R CMD check --install=check:tidytof.install-out.txt --library=/home/biocbuild/bbs-3.22-bioc/R/site-library --timings tidytof_1.3.0.tar.gz StartedAt: 2025-10-25 04:57:42 -0400 (Sat, 25 Oct 2025) EndedAt: 2025-10-25 05:09:49 -0400 (Sat, 25 Oct 2025) EllapsedTime: 726.7 seconds RetCode: 1 Status: ERROR CheckDir: tidytof.Rcheck Warnings: NA