Package: tidytof Version: 1.3.0 Command: /Library/Frameworks/R.framework/Resources/bin/R CMD build --keep-empty-dirs --no-resave-data tidytof StartedAt: 2025-10-27 17:58:07 -0400 (Mon, 27 Oct 2025) EndedAt: 2025-10-27 17:59:51 -0400 (Mon, 27 Oct 2025) EllapsedTime: 104.2 seconds RetCode: 0 Status: OK PackageFile: tidytof_1.3.0.tar.gz PackageFileSize: 2.681 MiB