Package: tidysbml Version: 1.3.0 Command: /home/biocbuild/bbs-3.22-bioc/R/bin/R CMD INSTALL tidysbml StartedAt: 2025-10-24 15:15:17 -0400 (Fri, 24 Oct 2025) EndedAt: 2025-10-24 15:15:38 -0400 (Fri, 24 Oct 2025) EllapsedTime: 21.2 seconds RetCode: 0 Status: OK