Package: tidysbml Version: 1.3.0 Command: /home/biocbuild/bbs-3.22-bioc/R/bin/R CMD build --keep-empty-dirs --no-resave-data --md5 tidysbml StartedAt: 2025-10-24 20:39:12 -0400 (Fri, 24 Oct 2025) EndedAt: 2025-10-24 20:39:27 -0400 (Fri, 24 Oct 2025) EllapsedTime: 15.0 seconds RetCode: 0 Status: OK PackageFile: tidysbml_1.3.0.tar.gz PackageFileSize: 307.3 KiB