Package: tidysbml Version: 1.4.0 Command: /Library/Frameworks/R.framework/Resources/bin/R CMD INSTALL tidysbml StartedAt: 2025-11-10 15:02:46 -0500 (Mon, 10 Nov 2025) EndedAt: 2025-11-10 15:02:56 -0500 (Mon, 10 Nov 2025) EllapsedTime: 9.6 seconds RetCode: 0 Status: OK