Package: tidysbml Version: 1.4.0 Command: /Library/Frameworks/R.framework/Resources/bin/R CMD build --keep-empty-dirs --no-resave-data tidysbml StartedAt: 2025-11-10 17:59:51 -0500 (Mon, 10 Nov 2025) EndedAt: 2025-11-10 17:59:59 -0500 (Mon, 10 Nov 2025) EllapsedTime: 8.1 seconds RetCode: 0 Status: OK PackageFile: tidysbml_1.4.0.tar.gz PackageFileSize: 306.7 KiB