Package: tidyomics Version: 1.5.0 Command: /home/biocbuild/R/R/bin/R CMD INSTALL tidyomics StartedAt: 2025-10-23 20:58:13 -0000 (Thu, 23 Oct 2025) EndedAt: 2025-10-23 20:58:59 -0000 (Thu, 23 Oct 2025) EllapsedTime: 45.4 seconds RetCode: 0 Status: OK