Package: tidyomics Version: 1.5.0 Command: /home/biocbuild/bbs-3.22-bioc/R/bin/R CMD INSTALL tidyomics StartedAt: 2025-10-24 15:44:58 -0400 (Fri, 24 Oct 2025) EndedAt: 2025-10-24 15:45:32 -0400 (Fri, 24 Oct 2025) EllapsedTime: 34.9 seconds RetCode: 0 Status: OK