Package: tidyomics Version: 1.5.0 Command: /home/biocbuild/bbs-3.22-bioc/R/bin/R CMD check --install=check:tidyomics.install-out.txt --library=/home/biocbuild/bbs-3.22-bioc/R/site-library --timings tidyomics_1.5.0.tar.gz StartedAt: 2025-10-25 04:56:24 -0400 (Sat, 25 Oct 2025) EndedAt: 2025-10-25 05:00:05 -0400 (Sat, 25 Oct 2025) EllapsedTime: 221.2 seconds RetCode: 0 Status: WARNINGS CheckDir: tidyomics.Rcheck Warnings: 1