Package: tidybulk Version: 1.99.4 Command: /home/biocbuild/R/R/bin/R CMD INSTALL tidybulk StartedAt: 2025-10-23 20:44:59 -0000 (Thu, 23 Oct 2025) EndedAt: 2025-10-23 20:45:46 -0000 (Thu, 23 Oct 2025) EllapsedTime: 47.2 seconds RetCode: 0 Status: OK