Package: tidybulk Version: 1.99.4 Command: /home/biocbuild/R/R/bin/R CMD build --keep-empty-dirs --no-resave-data tidybulk StartedAt: 2025-10-21 03:42:33 -0000 (Tue, 21 Oct 2025) EndedAt: 2025-10-21 04:09:45 -0000 (Tue, 21 Oct 2025) EllapsedTime: 1631.6 seconds RetCode: 0 Status: OK PackageFile: tidybulk_1.99.4.tar.gz PackageFileSize: 3.1 MiB