Package: tidybulk Version: 1.99.4 Command: /Library/Frameworks/R.framework/Resources/bin/R CMD build --keep-empty-dirs --no-resave-data tidybulk StartedAt: 2025-10-24 19:03:34 -0400 (Fri, 24 Oct 2025) EndedAt: 2025-10-24 19:19:58 -0400 (Fri, 24 Oct 2025) EllapsedTime: 983.7 seconds RetCode: 0 Status: OK PackageFile: tidybulk_1.99.4.tar.gz PackageFileSize: 4.995 MiB