Package: tidybulk Version: 1.99.4 Command: rm -rf tidybulk.buildbin-libdir && mkdir tidybulk.buildbin-libdir && /Users/biocbuild/BBS/utils/build-universal.sh tidybulk_1.99.4.tar.gz /Library/Frameworks/R.framework/Resources/bin/R tidybulk.buildbin-libdir StartedAt: 2025-10-24 23:22:33 -0400 (Fri, 24 Oct 2025) EndedAt: 2025-10-24 23:22:48 -0400 (Fri, 24 Oct 2025) EllapsedTime: 15.3 seconds RetCode: 0 Status: OK PackageFile: tidybulk_1.99.4.tgz PackageFileSize: 5.367 MiB