Package: tidybulk Version: 1.99.4 Maintainer: Stefano Mangiola MaintainerEmail: mangiolastefano at gmail.com git_url: https://git.bioconductor.org/packages/tidybulk git_branch: devel git_last_commit: 35e34e7 git_last_commit_date: 2025-10-02 23:43:29 -0400 (Thu, 02 Oct 2025)