Package: tidySummarizedExperiment Version: 1.19.6 Command: /home/biocbuild/R/R/bin/R CMD build --keep-empty-dirs --no-resave-data tidySummarizedExperiment StartedAt: 2025-10-21 03:44:10 -0000 (Tue, 21 Oct 2025) EndedAt: 2025-10-21 03:45:04 -0000 (Tue, 21 Oct 2025) EllapsedTime: 54.0 seconds RetCode: 0 Status: OK PackageFile: tidySummarizedExperiment_1.19.6.tar.gz PackageFileSize: 342.2 KiB