Package: tidySummarizedExperiment Version: 1.19.7 Command: /home/biocbuild/bbs-3.22-bioc/R/bin/R CMD check --install=check:tidySummarizedExperiment.install-out.txt --library=/home/biocbuild/bbs-3.22-bioc/R/site-library --timings tidySummarizedExperiment_1.19.7.tar.gz StartedAt: 2025-10-25 04:57:36 -0400 (Sat, 25 Oct 2025) EndedAt: 2025-10-25 05:02:52 -0400 (Sat, 25 Oct 2025) EllapsedTime: 315.3 seconds RetCode: 0 Status: OK CheckDir: tidySummarizedExperiment.Rcheck Warnings: 0