Package: tidySummarizedExperiment Version: 1.19.7 Command: /Library/Frameworks/R.framework/Resources/bin/R CMD INSTALL tidySummarizedExperiment StartedAt: 2025-10-26 15:18:08 -0400 (Sun, 26 Oct 2025) EndedAt: 2025-10-26 15:18:19 -0400 (Sun, 26 Oct 2025) EllapsedTime: 11.1 seconds RetCode: 0 Status: OK