Package: tidySummarizedExperiment Version: 1.20.0 Command: /Library/Frameworks/R.framework/Resources/bin/R CMD check --install=check:tidySummarizedExperiment.install-out.txt --library=/Library/Frameworks/R.framework/Resources/library --no-vignettes --timings tidySummarizedExperiment_1.20.0.tar.gz StartedAt: 2025-10-30 04:53:00 -0400 (Thu, 30 Oct 2025) EndedAt: 2025-10-30 04:55:02 -0400 (Thu, 30 Oct 2025) EllapsedTime: 121.4 seconds RetCode: 0 Status: OK CheckDir: tidySummarizedExperiment.Rcheck Warnings: 0