Package: tidySummarizedExperiment Version: 1.19.7 Maintainer: Stefano Mangiola MaintainerEmail: mangiolastefano at gmail.com git_url: https://git.bioconductor.org/packages/tidySummarizedExperiment git_branch: devel git_last_commit: 9f7c26e git_last_commit_date: 2025-10-12 19:05:52 -0400 (Sun, 12 Oct 2025)