Package: tidySpatialExperiment Version: 1.5.1 Command: /home/biocbuild/R/R/bin/R CMD INSTALL tidySpatialExperiment StartedAt: 2025-10-23 20:42:37 -0000 (Thu, 23 Oct 2025) EndedAt: 2025-10-23 20:43:16 -0000 (Thu, 23 Oct 2025) EllapsedTime: 38.8 seconds RetCode: 0 Status: OK