Package: tidySpatialExperiment Version: 1.5.0 Command: /home/biocbuild/R/R/bin/R CMD build --keep-empty-dirs --no-resave-data tidySpatialExperiment StartedAt: 2025-10-21 03:44:08 -0000 (Tue, 21 Oct 2025) EndedAt: 2025-10-21 03:45:17 -0000 (Tue, 21 Oct 2025) EllapsedTime: 69.0 seconds RetCode: 0 Status: OK PackageFile: tidySpatialExperiment_1.5.0.tar.gz PackageFileSize: 4.255 MiB