Package: tidySpatialExperiment Version: 1.5.1 Command: /home/biocbuild/bbs-3.22-bioc/R/bin/R CMD check --install=check:tidySpatialExperiment.install-out.txt --library=/home/biocbuild/bbs-3.22-bioc/R/site-library --timings tidySpatialExperiment_1.5.1.tar.gz StartedAt: 2025-10-25 04:57:20 -0400 (Sat, 25 Oct 2025) EndedAt: 2025-10-25 05:02:00 -0400 (Sat, 25 Oct 2025) EllapsedTime: 279.3 seconds RetCode: 0 Status: OK CheckDir: tidySpatialExperiment.Rcheck Warnings: 0