Package: tidySpatialExperiment Version: 1.5.1 Command: /home/biocbuild/bbs-3.22-bioc/R/bin/R CMD build --keep-empty-dirs --no-resave-data --md5 tidySpatialExperiment StartedAt: 2025-10-24 20:39:17 -0400 (Fri, 24 Oct 2025) EndedAt: 2025-10-24 20:40:08 -0400 (Fri, 24 Oct 2025) EllapsedTime: 51.0 seconds RetCode: 0 Status: OK PackageFile: tidySpatialExperiment_1.5.1.tar.gz PackageFileSize: 4.339 MiB