Package: tidySpatialExperiment Version: 1.6.0 Command: /Library/Frameworks/R.framework/Resources/bin/R CMD check --install=check:tidySpatialExperiment.install-out.txt --library=/Library/Frameworks/R.framework/Resources/library --no-vignettes --timings tidySpatialExperiment_1.6.0.tar.gz StartedAt: 2025-11-01 00:44:43 -0400 (Sat, 01 Nov 2025) EndedAt: 2025-11-01 00:48:39 -0400 (Sat, 01 Nov 2025) EllapsedTime: 236.1 seconds RetCode: 1 Status: ERROR CheckDir: tidySpatialExperiment.Rcheck Warnings: NA