Package: tidySpatialExperiment Version: 1.5.1 Command: /Library/Frameworks/R.framework/Resources/bin/R CMD build --keep-empty-dirs --no-resave-data tidySpatialExperiment StartedAt: 2025-10-24 19:04:17 -0400 (Fri, 24 Oct 2025) EndedAt: 2025-10-24 19:05:20 -0400 (Fri, 24 Oct 2025) EllapsedTime: 63.3 seconds RetCode: 0 Status: OK PackageFile: tidySpatialExperiment_1.5.1.tar.gz PackageFileSize: 4.301 MiB