Package: tidySpatialExperiment Version: 1.5.1 Command: rm -rf tidySpatialExperiment.buildbin-libdir && mkdir tidySpatialExperiment.buildbin-libdir && /Users/biocbuild/BBS/utils/build-universal.sh tidySpatialExperiment_1.5.1.tar.gz /Library/Frameworks/R.framework/Resources/bin/R tidySpatialExperiment.buildbin-libdir StartedAt: 2025-10-25 02:08:36 -0400 (Sat, 25 Oct 2025) EndedAt: 2025-10-25 02:09:22 -0400 (Sat, 25 Oct 2025) EllapsedTime: 45.2 seconds RetCode: 0 Status: OK PackageFile: tidySpatialExperiment_1.5.1.tgz PackageFileSize: 2.878 MiB